BEGIN:VCALENDAR
VERSION:2.0
PRODID:-//wp-events-plugin.com//7.2.3.1//EN
TZID:America/Toronto
X-WR-TIMEZONE:America/Toronto
BEGIN:VEVENT
UID:789@theatrewoodstock.com
DTSTART;TZID=America/Toronto;VALUE=DATE:20171118
DTEND;TZID=America/Toronto;VALUE=DATE:20171119
DTSTAMP:20170506T172653Z
URL:https://theatrewoodstock.com/events/tw-dickens-of-a-christmas-on-stage
 -2017-11-18/
SUMMARY:TW: Dickens of a Christmas - (on Stage)
DESCRIPTION:
CATEGORIES:Rehearsal-TW
LOCATION:The Market Centre\, 22 Reeve St\, Woodstock\, Ontario\, N4S 8X8\, 
 Canada
GEO:43.1294387;-80.75595699999997
X-APPLE-STRUCTURED-LOCATION;VALUE=URI;X-ADDRESS=22 Reeve St\, Woodstock\, O
 ntario\, N4S 8X8\, Canada;X-APPLE-RADIUS=100;X-TITLE=The Market Centre:geo
 :43.1294387,-80.75595699999997
END:VEVENT
BEGIN:VTIMEZONE
TZID:America/Toronto
X-LIC-LOCATION:America/Toronto
BEGIN:STANDARD
DTSTART:20171105T010000
TZOFFSETFROM:-0400
TZOFFSETTO:-0500
TZNAME:EST
END:STANDARD
END:VTIMEZONE
END:VCALENDAR